{"text_format":"1","workbook":"xlsx","n_sheets":2,"sheets":["Data","kites"],"not_rendered":{"charts":7,"images":1,"macros":1,"external_links":0,"defined_names":14,"comments":1,"pivot_tables":0},"unopened":[],"bounds":{"document_bytes":16777216,"sheet_cells":100000,"rows_first":2000,"rows_last":500,"rows_between":2000,"halvings":0,"cell_chars":16384,"cell_head_chars":4096},"cells_cut":0,"cells_raw":0,"read":"whole","date_system":"1900"}

{"sheet":"Data","index":0,"n_rows":30,"n_cols":23,"rows_kept":30,"cut":false,"hidden":false,"merged":[[5,2,5,8],[1,2,1,6],[2,10,2,11]]}
[]
[null,null,"Kite Diagrams",null,null,null,null,null,"Instructions"]
[null,"Group","Js",null,null,null,null,"Site Number",1,null,"Kite Diagrams"]
[]
[]
[null,null,"Abundance"]
[null,null,"Species","Species","Species","Species","Species","Species","Species"]
[null,"Distance (m)","Laminaria Sacharina","Fucus Seratus","Fucus Vesiculocus","Fucus Spiralis","Lichina pygmaea","Xanthoria parientina","Romalia siliquosa","Top A","Bottom A","TopB","BotB","TopC","BotC","TopD","BotD"]
[]
[null,0,5,2,0,0,0,0,0,{"$f":"C10","v":5},{"$f":"C10*-1","v":-5},{"$f":"D10","v":2},{"$f":"L10*-1","v":-2},{"$f":"E10","v":0},{"$f":"N10*-1","v":0},{"$f":"F10","v":0},{"$f":"P10*-1","v":0},{"$f":"G10","v":0},{"$f":"G10*-1","v":0},{"$f":"H10","v":0},{"$f":"H10*-1","v":0},{"$f":"I10","v":0},{"$f":"I10*-1","v":0}]
[null,5,5,3,0,0,0,0,0,{"$f":"C11","v":5},{"$f":"C11*-1","v":-5},{"$f":"D11","v":3},{"$f":"L11*-1","v":-3},{"$f":"E11","v":0},{"$f":"N11*-1","v":0},{"$f":"F11","v":0},{"$f":"P11*-1","v":0},{"$f":"G11","v":0},{"$f":"G11*-1","v":0},{"$f":"H11","v":0},{"$f":"H11*-1","v":0},{"$f":"I11","v":0},{"$f":"I11*-1","v":0}]
[null,10,3,5,0,0,0,0,0,3,-3,5,-5,0,0,0,0,0,0,0,0,0,0]
[null,15,0,5,2,0,0,0,0,0,0,5,-5,2,-2,0,0,0,0,0,0,0,0]
[null,20,0,3,2,0,0,0,0,0,0,3,-3,2,-2,0,0,0,0,0,0,0,0]
[null,25,0,3,3,1,0,0,0,0,0,3,-3,3,-3,1,-1,0,0,0,0,0,0]
[null,30,0,3,5,2,0,0,0,0,0,3,-3,5,-5,2,-2,0,0,0,0,0,0]
[null,35,0,3,5,3,0,0,0,0,0,3,-3,5,-5,3,-3,0,0,0,0,0,0]
[null,40,0,3,5,2,0,0,0,0,0,3,-3,5,-5,2,-2,0,0,0,0,0,0]
[null,45,0,2,5,1,0,0,0,0,0,2,-2,5,-5,1,-1,0,0,0,0,0,0]
[null,50,0,1,5,3,0,0,0,0,0,1,{"$f":"L20*-1","v":-1},5,-5,3,-3,0,0,0,0,0,0]
[null,55,0,0,4,4,0,0,0,0,0,0,0,4,-4,4,-4,0,0,0,0,0,0]
[null,60,0,0,3,3,0,0,0,0,0,0,0,3,-3,3,-3,0,0,0,0,0,0]
[null,65,0,0,2,3,0,0,0,0,0,0,0,2,-2,3,-3,0,0,0,0,0,0]
[null,70,0,0,0,0,2,1,0,0,0,0,0,0,0,0,0,2,-2,1,-1,0,0]
[null,75,0,0,0,0,3,3,0,0,0,0,0,0,0,0,0,3,-3,3,-3,0,0]
[null,80,0,0,0,0,5,4,0,0,0,0,0,0,0,0,0,5,-5,4,-4,0,0]
[null,85,0,0,0,0,5,5,0,0,0,0,0,0,0,0,0,5,-5,5,-5,0,0]
[null,90,0,0,0,0,4,4,1,0,0,0,0,0,0,0,0,4,-4,4,-4,1,-1]
[null,95,0,0,0,0,3,4,4,0,0,0,0,0,0,0,0,3,-3,4,-4,4,-4]
[null,100,0,0,0,0,2,3,5,0,0,0,0,0,0,0,0,2,-2,3,-3,5,-5]

{"sheet":"kites","index":1,"n_rows":50,"n_cols":10,"rows_kept":50,"cut":false,"hidden":false,"merged":[]}
[]
[null,"Group",{"$f":"Data!C3","v":"Js"},null,"SiteNo.",{"$f":"Data!I3","v":1},null,"Data",null,"Intro"]
[]
["Species"]
[]
[]
[]
[{"$f":"Data!C8","v":"Laminaria Sacharina"}]
[]
[]
[]
[]
[]
[]
[{"$f":"Data!D8","v":"Fucus Seratus"}]
[]
[]
[]
[]
[]
[]
[{"$f":"Data!E8","v":"Fucus Vesiculocus"}]
[]
[]
[]
[]
[]
[]
[{"$f":"Data!F8","v":"Fucus Spiralis"}]
[]
[]
[]
[]
[]
[]
[{"$f":"Data!G8","v":"Lichina pygmaea"}]
[]
[]
[]
[]
[]
[]
[{"$f":"Data!H8","v":"Xanthoria parientina"}]
[]
[]
[]
[]
[]
[]
[{"$f":"Data!I8","v":"Romalia siliquosa"}]